BEGIN:VCALENDAR
VERSION:2.0
PRODID:-//Mediaguard - ECPv6.2.8.2//NONSGML v1.0//EN
CALSCALE:GREGORIAN
METHOD:PUBLISH
X-WR-CALNAME:Mediaguard
X-ORIGINAL-URL:https://mediaguard.co
X-WR-CALDESC:Events for Mediaguard
REFRESH-INTERVAL;VALUE=DURATION:PT1H
X-Robots-Tag:noindex
X-PUBLISHED-TTL:PT1H
BEGIN:VTIMEZONE
TZID:UTC
BEGIN:STANDARD
TZOFFSETFROM:+0000
TZOFFSETTO:+0000
TZNAME:UTC
DTSTART:20250101T000000
END:STANDARD
END:VTIMEZONE
BEGIN:VEVENT
DTSTART;TZID=UTC:20250423T110000
DTEND;TZID=UTC:20250425T140000
DTSTAMP:20260424T065453
CREATED:20250321T093810Z
LAST-MODIFIED:20250321T093810Z
UID:2900-1745406000-1745589600@mediaguard.co
SUMMARY:Training: AI for Journalists – Understanding\, Tools\, and Future Trends
DESCRIPTION:📅 Dates: April 23\, 24\, 25\n⏰ Time: 11:00 – 14:00 CET (3 hours per day)\n📍 Online Training (Zoom)   \nRegistration: Link \nLanguage – English  \nAttendance is Free  \nArtificial Intelligence (AI) is rapidly transforming the media industry\, revolutionizing how journalists research\, verify\, and create content. This three-day intensive training is designed specifically for journalists and media professionals to gain a solid understanding of AI\, its applications in journalism\, and the future of AI-powered workflows. \nThrough expert-led sessions\, practical examples\, and discussions\, participants will explore AI fundamentals\, newsroom innovations\, ethical considerations\, and hands-on tools that can enhance their reporting and storytelling. \nWho Should Attend? \n\nJournalists\, editors\, and content creators\nMedia professionals interested in AI applications\nInvestigative reporters and fact-checkers\nDigital newsroom managers and innovation leads\n\nTraining Agenda \n📌 Day 1: Understanding AI \n\nWhat is AI? Concepts & definitions\nTypes of AI (fundamental & foundational)\nMyths vs Reality\nAI milestones: From early computing to deep learning\nHow AI works: Deep learning\, computer vision\, machine learning\nAI ethics in journalism\nDiscussion & Q&A\n\n📌 Day 2: AI in Journalism & Media \n\nHow AI is transforming newsrooms\nAI in content creation (fact-checking\, user engagement)\nAI tools for investigative journalism\nDetecting deepfake and disinformation\nFree & paid AI tools\nAI-generated articles and other content\nDiscussion & Q&A\n\n📌 Day 3: The Future of AI & Your AI Workspace \n\nWill AI replace journalists?\nPractical AI tools for journalists\nHands-on experiment with AI tools\nAutomating journalism tasks: transcription\, video editing\, summarization\nKey takeaways and implementation strategies\nFinal discussion & Q&A\n\nTrainer: Sandro Kanelaki \nSandro Kanelaki is an expert in digital transformation and entrepreneurship with extensive experience across industries\, from banking to media. He has successfully led digital transformation projects for various businesses\, helping them leverage AI and digital tools for efficiency and innovation. \n  \nHe is the co-founder of Assisto.ge\, an AI startup that empowers businesses with AI-driven solutions\, and the co-founder of Founders.ge\, a leading business media outlet in Georgia that shares knowledge on entrepreneurship\, AI\, technology\, and digital transformation. His deep understanding of AI’s impact on media and business makes him an ideal mentor for this training.
URL:https://mediaguard.co/event/training-ai-for-journalists-understanding-tools-and-future-trends/
LOCATION:Zoom
ATTACH;FMTTYPE=image/png:https://mediaguard.co/wp-content/uploads/2025/03/cover.png
END:VEVENT
END:VCALENDAR