BEGIN:VCALENDAR
VERSION:2.0
PRODID:-//Mediaguard - ECPv6.2.8.2//NONSGML v1.0//EN
CALSCALE:GREGORIAN
METHOD:PUBLISH
X-ORIGINAL-URL:https://mediaguard.co
X-WR-CALDESC:Events for Mediaguard
REFRESH-INTERVAL;VALUE=DURATION:PT1H
X-Robots-Tag:noindex
X-PUBLISHED-TTL:PT1H
BEGIN:VTIMEZONE
TZID:Asia/Dubai
BEGIN:STANDARD
TZOFFSETFROM:+0400
TZOFFSETTO:+0400
TZNAME:+04
DTSTART:20240101T000000
END:STANDARD
END:VTIMEZONE
BEGIN:VEVENT
DTSTART;TZID=Asia/Dubai:20240722T130000
DTEND;TZID=Asia/Dubai:20240722T170000
DTSTAMP:20260424T154842
CREATED:20240615T080226Z
LAST-MODIFIED:20240615T080226Z
UID:1719-1721653200-1721667600@mediaguard.co
SUMMARY:The High-Quality Multimedia Content
DESCRIPTION:Multimedia Content Creation Workshop Series \nJoin us for an immersive workshop series designed to elevate your skills in multimedia content creation. Spread across five days\, each module offers four hours of focused learning and hands-on practice. Whether you’re a beginner or looking to enhance your existing skills\, this training is perfect for individuals interested in infographics\, video editing\, photo editing\, podcasting\, and multimedia platforms. \nWho Should Attend: \n\nAspiring content creators\nJournalists looking to enhance their storytelling through multimedia\nAnyone interested in enhancing their multimedia content creation skills\n\nTraining details: \n\nDate – July 22 – 26\nDuration of training  – 4 hours/day \nTime – 11:00AM – 15:00PM (CET)\nFormat – online (Zoom)\nLanguage – English\nAttendance is free\n\nAdditional details (instructions for attending ) will be sent to you by email. \nThe workshop includes five independent modules\, each with a duration of four hours. \nMonday\, July 22:  11:00 AM – 15:00 PM (CET) \nModule 1: Creating Infographics and Visual Content \n·       Introduction to infographic design principles \n·       Hands-on practice with creating infographics and visual content \n  \nTuesday\, July 23:  11:00 AM – 15:00 PM  (CET) \nModule 2: Video Editing Essentials (Beginners level) \n·       Principles of video storytelling \n·       Introduction to basic video editing software and tools \n·       Hands-on practice with basic video editing tasks \n  \nWednesday\, July 24:  11:00 AM – 15:00 PM (CET) \nModule 3: Photo Shooting and Editing \n·       Principles of Photo storytelling \n·       Overview of photo editing software and tools \n·       Techniques for enhancing and manipulating images \n  \nThursday\, July 25:  11:00 AM – 15:00 PM (CET) \nModule 4: Podcasting Basics \n·       Introduction to podcasting and its significance in modern media \n·       Overview of podcasting tools and platforms \n·       Tips for creating engaging podcast content \n  \nFriday\, July 26:  11:00 AM – 15:00 PM (CET) \nModule 5: Online Platforms for Multimedia Content Design \n·       Review of various online platforms for multimedia content creation \n·       Hands-on exploration of platform features and capabilities \n·       Tips for choosing the right platform for specific multimedia projects \n  \nEach workshop will last for 4 hours\, providing ample time for in-depth exploration and practical exercises. Participants will gain new insights into multimedia production while also having the opportunity to share their own practices and experiences. \nFor Registration please fill the Form: https://docs.google.com/forms/d/e/1FAIpQLSesNgVk8rASUsyqRVLPY6GwMorgtb23L8-cu1ljIGAKc8ZZbA/viewform?usp=sf_link
URL:https://mediaguard.co/event/the-high-quality-multimedia-content/
LOCATION:Zoom
ATTACH;FMTTYPE=image/jpeg:https://mediaguard.co/wp-content/uploads/2024/06/training.jpg
END:VEVENT
BEGIN:VEVENT
DTSTART;TZID=Asia/Dubai:20240723T130000
DTEND;TZID=Asia/Dubai:20240723T170000
DTSTAMP:20260424T154842
CREATED:20240615T080427Z
LAST-MODIFIED:20240615T080427Z
UID:1823-1721739600-1721754000@mediaguard.co
SUMMARY:The High-Quality Multimedia Content
DESCRIPTION:Multimedia Content Creation Workshop Series \nJoin us for an immersive workshop series designed to elevate your skills in multimedia content creation. Spread across five days\, each module offers four hours of focused learning and hands-on practice. Whether you’re a beginner or looking to enhance your existing skills\, this training is perfect for individuals interested in infographics\, video editing\, photo editing\, podcasting\, and multimedia platforms. \nWho Should Attend: \n\nAspiring content creators\nJournalists looking to enhance their storytelling through multimedia\nAnyone interested in enhancing their multimedia content creation skills\n\nTraining details: \n\nDate – July 22 – 26\nDuration of training  – 4 hours/day \nTime – 11:00AM – 15:00PM (CET)\nFormat – online (Zoom)\nLanguage – English\nAttendance is free\n\nAdditional details (instructions for attending ) will be sent to you by email. \nThe workshop includes five independent modules\, each with a duration of four hours. \nMonday\, July 22:  11:00 AM – 15:00 PM (CET) \nModule 1: Creating Infographics and Visual Content \n·       Introduction to infographic design principles \n·       Hands-on practice with creating infographics and visual content \n  \nTuesday\, July 23:  11:00 AM – 15:00 PM  (CET) \nModule 2: Video Editing Essentials (Beginners level) \n·       Principles of video storytelling \n·       Introduction to basic video editing software and tools \n·       Hands-on practice with basic video editing tasks \n  \nWednesday\, July 24:  11:00 AM – 15:00 PM (CET) \nModule 3: Photo Shooting and Editing \n·       Principles of Photo storytelling \n·       Overview of photo editing software and tools \n·       Techniques for enhancing and manipulating images \n  \nThursday\, July 25:  11:00 AM – 15:00 PM (CET) \nModule 4: Podcasting Basics \n·       Introduction to podcasting and its significance in modern media \n·       Overview of podcasting tools and platforms \n·       Tips for creating engaging podcast content \n  \nFriday\, July 26:  11:00 AM – 15:00 PM (CET) \nModule 5: Online Platforms for Multimedia Content Design \n·       Review of various online platforms for multimedia content creation \n·       Hands-on exploration of platform features and capabilities \n·       Tips for choosing the right platform for specific multimedia projects \n  \nEach workshop will last for 4 hours\, providing ample time for in-depth exploration and practical exercises. Participants will gain new insights into multimedia production while also having the opportunity to share their own practices and experiences. \nFor Registration please fill the Form: https://docs.google.com/forms/d/e/1FAIpQLSesNgVk8rASUsyqRVLPY6GwMorgtb23L8-cu1ljIGAKc8ZZbA/viewform?usp=sf_link
URL:https://mediaguard.co/event/the-high-quality-multimedia-content-2/
ATTACH;FMTTYPE=image/jpeg:https://mediaguard.co/wp-content/uploads/2024/06/training.jpg
END:VEVENT
BEGIN:VEVENT
DTSTART;TZID=Asia/Dubai:20240724T130000
DTEND;TZID=Asia/Dubai:20240724T170000
DTSTAMP:20260424T154842
CREATED:20240615T080539Z
LAST-MODIFIED:20240615T080539Z
UID:1825-1721826000-1721840400@mediaguard.co
SUMMARY:The High-Quality Multimedia Content
DESCRIPTION:Multimedia Content Creation Workshop Series \nJoin us for an immersive workshop series designed to elevate your skills in multimedia content creation. Spread across five days\, each module offers four hours of focused learning and hands-on practice. Whether you’re a beginner or looking to enhance your existing skills\, this training is perfect for individuals interested in infographics\, video editing\, photo editing\, podcasting\, and multimedia platforms. \nWho Should Attend: \n\nAspiring content creators\nJournalists looking to enhance their storytelling through multimedia\nAnyone interested in enhancing their multimedia content creation skills\n\nTraining details: \n\nDate – July 22 – 26\nDuration of training  – 4 hours/day \nTime – 11:00AM – 15:00PM (CET)\nFormat – online (Zoom)\nLanguage – English\nAttendance is free\n\nAdditional details (instructions for attending ) will be sent to you by email. \nThe workshop includes five independent modules\, each with a duration of four hours. \nMonday\, July 22:  11:00 AM – 15:00 PM (CET) \nModule 1: Creating Infographics and Visual Content \n·       Introduction to infographic design principles \n·       Hands-on practice with creating infographics and visual content \n  \nTuesday\, July 23:  11:00 AM – 15:00 PM  (CET) \nModule 2: Video Editing Essentials (Beginners level) \n·       Principles of video storytelling \n·       Introduction to basic video editing software and tools \n·       Hands-on practice with basic video editing tasks \n  \nWednesday\, July 24:  11:00 AM – 15:00 PM (CET) \nModule 3: Photo Shooting and Editing \n·       Principles of Photo storytelling \n·       Overview of photo editing software and tools \n·       Techniques for enhancing and manipulating images \n  \nThursday\, July 25:  11:00 AM – 15:00 PM (CET) \nModule 4: Podcasting Basics \n·       Introduction to podcasting and its significance in modern media \n·       Overview of podcasting tools and platforms \n·       Tips for creating engaging podcast content \n  \nFriday\, July 26:  11:00 AM – 15:00 PM (CET) \nModule 5: Online Platforms for Multimedia Content Design \n·       Review of various online platforms for multimedia content creation \n·       Hands-on exploration of platform features and capabilities \n·       Tips for choosing the right platform for specific multimedia projects \n  \nEach workshop will last for 4 hours\, providing ample time for in-depth exploration and practical exercises. Participants will gain new insights into multimedia production while also having the opportunity to share their own practices and experiences. \nFor Registration please fill the Form: https://docs.google.com/forms/d/e/1FAIpQLSesNgVk8rASUsyqRVLPY6GwMorgtb23L8-cu1ljIGAKc8ZZbA/viewform?usp=sf_link
URL:https://mediaguard.co/event/the-high-quality-multimedia-content-3/
ATTACH;FMTTYPE=image/jpeg:https://mediaguard.co/wp-content/uploads/2024/06/training.jpg
END:VEVENT
BEGIN:VEVENT
DTSTART;TZID=Asia/Dubai:20240725T130000
DTEND;TZID=Asia/Dubai:20240725T170000
DTSTAMP:20260424T154842
CREATED:20240615T080627Z
LAST-MODIFIED:20240615T080627Z
UID:1827-1721912400-1721926800@mediaguard.co
SUMMARY:The High-Quality Multimedia Content
DESCRIPTION:Multimedia Content Creation Workshop Series \nJoin us for an immersive workshop series designed to elevate your skills in multimedia content creation. Spread across five days\, each module offers four hours of focused learning and hands-on practice. Whether you’re a beginner or looking to enhance your existing skills\, this training is perfect for individuals interested in infographics\, video editing\, photo editing\, podcasting\, and multimedia platforms. \nWho Should Attend: \n\nAspiring content creators\nJournalists looking to enhance their storytelling through multimedia\nAnyone interested in enhancing their multimedia content creation skills\n\nTraining details: \n\nDate – July 22 – 26\nDuration of training  – 4 hours/day \nTime – 11:00AM – 15:00PM (CET)\nFormat – online (Zoom)\nLanguage – English\nAttendance is free\n\nAdditional details (instructions for attending ) will be sent to you by email. \nThe workshop includes five independent modules\, each with a duration of four hours. \nMonday\, July 22:  11:00 AM – 15:00 PM (CET) \nModule 1: Creating Infographics and Visual Content \n·       Introduction to infographic design principles \n·       Hands-on practice with creating infographics and visual content \n  \nTuesday\, July 23:  11:00 AM – 15:00 PM  (CET) \nModule 2: Video Editing Essentials (Beginners level) \n·       Principles of video storytelling \n·       Introduction to basic video editing software and tools \n·       Hands-on practice with basic video editing tasks \n  \nWednesday\, July 24:  11:00 AM – 15:00 PM (CET) \nModule 3: Photo Shooting and Editing \n·       Principles of Photo storytelling \n·       Overview of photo editing software and tools \n·       Techniques for enhancing and manipulating images \n  \nThursday\, July 25:  11:00 AM – 15:00 PM (CET) \nModule 4: Podcasting Basics \n·       Introduction to podcasting and its significance in modern media \n·       Overview of podcasting tools and platforms \n·       Tips for creating engaging podcast content \n  \nFriday\, July 26:  11:00 AM – 15:00 PM (CET) \nModule 5: Online Platforms for Multimedia Content Design \n·       Review of various online platforms for multimedia content creation \n·       Hands-on exploration of platform features and capabilities \n·       Tips for choosing the right platform for specific multimedia projects \n  \nEach workshop will last for 4 hours\, providing ample time for in-depth exploration and practical exercises. Participants will gain new insights into multimedia production while also having the opportunity to share their own practices and experiences. \nFor Registration please fill the Form: https://docs.google.com/forms/d/e/1FAIpQLSesNgVk8rASUsyqRVLPY6GwMorgtb23L8-cu1ljIGAKc8ZZbA/viewform?usp=sf_link
URL:https://mediaguard.co/event/the-high-quality-multimedia-content-4/
ATTACH;FMTTYPE=image/jpeg:https://mediaguard.co/wp-content/uploads/2024/06/training.jpg
END:VEVENT
BEGIN:VEVENT
DTSTART;TZID=Asia/Dubai:20240726T130000
DTEND;TZID=Asia/Dubai:20240726T170000
DTSTAMP:20260424T154842
CREATED:20240615T080717Z
LAST-MODIFIED:20240615T080717Z
UID:1829-1721998800-1722013200@mediaguard.co
SUMMARY:The High-Quality Multimedia Content
DESCRIPTION:Multimedia Content Creation Workshop Series \nJoin us for an immersive workshop series designed to elevate your skills in multimedia content creation. Spread across five days\, each module offers four hours of focused learning and hands-on practice. Whether you’re a beginner or looking to enhance your existing skills\, this training is perfect for individuals interested in infographics\, video editing\, photo editing\, podcasting\, and multimedia platforms. \nWho Should Attend: \n\nAspiring content creators\nJournalists looking to enhance their storytelling through multimedia\nAnyone interested in enhancing their multimedia content creation skills\n\nTraining details: \n\nDate – July 22 – 26\nDuration of training  – 4 hours/day \nTime – 11:00AM – 15:00PM (CET)\nFormat – online (Zoom)\nLanguage – English\nAttendance is free\n\nAdditional details (instructions for attending ) will be sent to you by email. \nThe workshop includes five independent modules\, each with a duration of four hours. \nMonday\, July 22:  11:00 AM – 15:00 PM (CET) \nModule 1: Creating Infographics and Visual Content \n·       Introduction to infographic design principles \n·       Hands-on practice with creating infographics and visual content \n  \nTuesday\, July 23:  11:00 AM – 15:00 PM  (CET) \nModule 2: Video Editing Essentials (Beginners level) \n·       Principles of video storytelling \n·       Introduction to basic video editing software and tools \n·       Hands-on practice with basic video editing tasks \n  \nWednesday\, July 24:  11:00 AM – 15:00 PM (CET) \nModule 3: Photo Shooting and Editing \n·       Principles of Photo storytelling \n·       Overview of photo editing software and tools \n·       Techniques for enhancing and manipulating images \n  \nThursday\, July 25:  11:00 AM – 15:00 PM (CET) \nModule 4: Podcasting Basics \n·       Introduction to podcasting and its significance in modern media \n·       Overview of podcasting tools and platforms \n·       Tips for creating engaging podcast content \n  \nFriday\, July 26:  11:00 AM – 15:00 PM (CET) \nModule 5: Online Platforms for Multimedia Content Design \n·       Review of various online platforms for multimedia content creation \n·       Hands-on exploration of platform features and capabilities \n·       Tips for choosing the right platform for specific multimedia projects \n  \nEach workshop will last for 4 hours\, providing ample time for in-depth exploration and practical exercises. Participants will gain new insights into multimedia production while also having the opportunity to share their own practices and experiences. \nFor Registration please fill the Form: https://docs.google.com/forms/d/e/1FAIpQLSesNgVk8rASUsyqRVLPY6GwMorgtb23L8-cu1ljIGAKc8ZZbA/viewform?usp=sf_link
URL:https://mediaguard.co/event/the-high-quality-multimedia-content-5/
ATTACH;FMTTYPE=image/jpeg:https://mediaguard.co/wp-content/uploads/2024/06/training.jpg
END:VEVENT
END:VCALENDAR