BEGIN:VCALENDAR
VERSION:2.0
PRODID:-//Mediaguard - ECPv6.2.8.2//NONSGML v1.0//EN
CALSCALE:GREGORIAN
METHOD:PUBLISH
X-WR-CALNAME:Mediaguard
X-ORIGINAL-URL:https://mediaguard.co
X-WR-CALDESC:Events for Mediaguard
REFRESH-INTERVAL;VALUE=DURATION:PT1H
X-Robots-Tag:noindex
X-PUBLISHED-TTL:PT1H
BEGIN:VTIMEZONE
TZID:UTC
BEGIN:STANDARD
TZOFFSETFROM:+0000
TZOFFSETTO:+0000
TZNAME:UTC
DTSTART:20250101T000000
END:STANDARD
END:VTIMEZONE
BEGIN:VEVENT
DTSTART;TZID=UTC:20250118T140000
DTEND;TZID=UTC:20250118T170000
DTSTAMP:20260424T065110
CREATED:20241127T102913Z
LAST-MODIFIED:20241217T061027Z
UID:2553-1737208800-1737219600@mediaguard.co
SUMMARY:Exploring Data Journalism and its Future
DESCRIPTION:Exploring Data Journalism and its Future \nThis three-day interactive training is designed for journalists seeking to enhance their skills in data journalism. Participants will gain practical insights\, explore tools\, and collaborate on projects to better understand the growing importance of data in storytelling. \nWho Should Attend: \n\nJournalists and Editors: Professionals looking to enhance their storytelling capabilities using data and uncover new narratives through analytics.\nMedia Professionals: Those interested in leveraging data to improve reporting quality and audience engagement.\nContent Creators: Professionals in content development who aim to integrate data insights into their work.\n\nTraining details: \n\nDate – 18\, 19\, 20 January   \nTime – 14:00PM – 17:00PM (CET)\nFormat – online (Zoom) \nLanguage – English\nAttendance is free\n\n  \nAdditional details (instructions for attending ) will be sent to you by email. \nDay1: \n\nWhy data journalism matters now?\nWhat is data and how journalists use them?\nReviewing good and bad practices of data journalism\n\nDay 2: \n\nHow to find the stories behind numbers?\nTeam work\nWhat are the online tools to work on data?\n\nDay 3: \n\nIndividual work\nWhas is future of data journalism and how can we use AI for it?\n\nFor Registration please fill the Form – Registration\n \nAbout Trainer\n \nNino Bakradze is an editor-in-chief and co-founder of the Investigative Journalists’ Team\, iFact. She holds a master’s degree in media management and journalism from the Georgian Institute of Public Affairs (GIPA). With 14 years of experience as a journalist and 10  years as an investigative reporter\, Ms. Bakradze has contributed significantly to the field of investigative journalism. \nMs. Bakradze has worked on high-profile international investigations\, including the Panama Papers (2015-2016) and the Pandora Papers\, in collaboration with the Organized Crime and Corruption Reporting Project (OCCRP). From 2016 to 2022\, she led the Data Journalism course for both undergraduate and graduate students at GIPA. \nIn 2019-2023\, under her leadership\, iFact partnered with the Friedrich Naumann Foundation for Freedom (FNF) to implement a one-year Investigative Journalism Training Program. Ms. Bakradze continues to lead educational programs on different levels\, fostering the next generation of investigative/data journalists. \n  \nRegistration
URL:https://mediaguard.co/event/exploring-data-journalism-and-its-future/
LOCATION:Zoom
CATEGORIES:Data Journalism
ATTACH;FMTTYPE=image/png:https://mediaguard.co/wp-content/uploads/2024/11/🚀Agile-Approach-to-Newsrooms-Transformation-👉The-workshop-module-is-designed-to-provide-a-comprehensive-introduction-to-Agile-methodology-and-its-application-in-newsrooms.-Participants-will-gai-1.png
END:VEVENT
END:VCALENDAR